BEGIN:VCALENDAR
PRODID:-//Microsoft Corporation//OutlookMIMEDIR//EN
VERSION:2.0
X-WR-TIMEZONE:Europe/Berlin
CALSCALE:GREGORIAN
METHOD:PUBLISH
CLASS:PUBLIC
BEGIN:VTIMEZONE
TZID:Europe/Berlin
LAST-MODIFIED:20260306T231828Z
TZURL:https://www.tzurl.org/zoneinfo-outlook/Europe/Berlin
X-LIC-LOCATION:Europe/Berlin
BEGIN:DAYLIGHT
TZNAME:CEST
TZOFFSETFROM:+0100
TZOFFSETTO:+0200
DTSTART:19700329T020000
RRULE:FREQ=YEARLY;BYMONTH=3;BYDAY=-1SU
END:DAYLIGHT
BEGIN:STANDARD
TZNAME:CET
TZOFFSETFROM:+0200
TZOFFSETTO:+0100
DTSTART:19701025T030000
RRULE:FREQ=YEARLY;BYMONTH=10;BYDAY=-1SU
END:STANDARD
END:VTIMEZONE
BEGIN:VEVENT
DTSTART;TZID=Europe/Berlin:20250730T100000
DTEND;TZID=Europe/Berlin:20250730T111500
DTSTAMP:20260423T201329Z
UID:{08D3ED17-F1AE-41DC-A01EDC120F3F0D16}
LOCATION:Virtual
SUMMARY:Rescheduling of SIG Meeting – New Date: 30 July 2025
DESCRIPTION:Dear Colleagues,\n
 \n
 Thank you to those who were able to attend or expressed interest in our SIG meeting initially scheduled for the 19th of July. Due to the short notice and the understandably low turnout, we believe the most appropriate action is to reschedule the meeting to allow for fuller participation.\n
 \n
 🗓 New Date: Wednesday, 30 July 2025\n
 🕙 Time: 10:00 AM CEST/CAT\n
 🔗 Zoom Link: (https://us06web.zoom.us/j/86854916788?pwd=CqpNaRlGAIALtgbUb8fvYvCwmQIWPH.1)\n
 \n
 Meeting ID: 868 5491 6788\n
 Passcode: 716719\n
 \n
 In the meantime, we highly encourage all members to join our WhatsApp group to ensure more fluid and real-time communication for future developments:\n
 👉 Join (https://chat.whatsapp.com/EuzfM5Sy04X4572MSKgOhp?mode=ac_t)\n
 \n
 We truly appreciate your continued commitment and look forward to your contributions in the rescheduled meeting.\n
 \n
 Warm regards,\n
 Tinotenda Dzikiti\n
 On behalf of the Coordination Team\n
 SIG – Diabetes in Limited Resource Settings
PRIORITY:1
END:VEVENT
END:VCALENDAR