BEGIN:VCALENDAR
PRODID:-//Microsoft Corporation//OutlookMIMEDIR//EN
VERSION:2.0
X-WR-TIMEZONE:America/New_York
CALSCALE:GREGORIAN
METHOD:PUBLISH
CLASS:PUBLIC
BEGIN:VTIMEZONE
TZID:America/New_York
LAST-MODIFIED:20260306T231828Z
TZURL:https://www.tzurl.org/zoneinfo-outlook/America/New_York
X-LIC-LOCATION:America/New_York
BEGIN:DAYLIGHT
TZNAME:EDT
TZOFFSETFROM:-0500
TZOFFSETTO:-0400
DTSTART:19700308T020000
RRULE:FREQ=YEARLY;BYMONTH=3;BYDAY=2SU
END:DAYLIGHT
BEGIN:STANDARD
TZNAME:EST
TZOFFSETFROM:-0400
TZOFFSETTO:-0500
DTSTART:19701101T020000
RRULE:FREQ=YEARLY;BYMONTH=11;BYDAY=1SU
END:STANDARD
END:VTIMEZONE
BEGIN:VEVENT
DTSTART;TZID=America/New_York:20250112T090000
DTEND;TZID=America/New_York:20250112T100000
DTSTAMP:20260423T164729Z
UID:{16BD2F6E-ACDB-402C-9C6736A6EAEAAF54}
LOCATION:Zoom 
SUMMARY:ISPAD T2D SIG meeting 
DESCRIPTION:Dear SIG members, \n
 \n
 Please save the date for our next SIG meeting. Zoom details are below. \n
 \n
 Shylaja Srinivasan is inviting you to a scheduled Zoom meeting.\n
 Meeting ID: 942 3633 4905\n
 Password: 323101\n
 Phone or Conference room password: 323101\n
 ---\n
 One Click Join from a PC, Mac, Linux, iOS or Android device:\n
 https://ucsf.zoom.us/j/94236334905?pwd=092e2sNpuLBezCIXYnZUSa6Mo5fbaM.1&from=addon\n
 ---\n
 One tap mobile (iPhone)\n
 +12133388477,,94236334905#,,,,1#,,323101# US (Los Angeles)\n
 +16692192599,,94236334905#,,,,1#,,323101# US (San Jose)\n
 ---\n
 Dial by your location\n
 +1 213 338 8477 US (Los Angeles)\n
 +1 669 219 2599 US (San Jose)\n
 +1 669 900 6833 US (San Jose)\n
 000 800 050 5050 India Toll-free\n
 000 800 001 4002 India Toll-free\n
 +52 554 161 4288 Mexico\n
 800 062 2403 Mexico Toll-free\n
 Meeting ID: 942 3633 4905\n
 Password: 323101\n
 ---\n
 Connecting from a room system:\n
 IP: 162.255.37.11\n
 SIP: 94236334905@zoomcrc.com\n
 Meeting ID: 942 3633 4905\n
 Password: 323101\n
 \n
 \n
 Best, \n
 Shylaja
PRIORITY:1
END:VEVENT
END:VCALENDAR