BEGIN:VCALENDAR
PRODID:-//Microsoft Corporation//OutlookMIMEDIR//EN
VERSION:2.0
X-WR-TIMEZONE:Europe/Berlin
CALSCALE:GREGORIAN
METHOD:PUBLISH
CLASS:PUBLIC
BEGIN:VTIMEZONE
TZID:Europe/Berlin
LAST-MODIFIED:20260306T231828Z
TZURL:https://www.tzurl.org/zoneinfo-outlook/Europe/Berlin
X-LIC-LOCATION:Europe/Berlin
BEGIN:DAYLIGHT
TZNAME:CEST
TZOFFSETFROM:+0100
TZOFFSETTO:+0200
DTSTART:19700329T020000
RRULE:FREQ=YEARLY;BYMONTH=3;BYDAY=-1SU
END:DAYLIGHT
BEGIN:STANDARD
TZNAME:CET
TZOFFSETFROM:+0200
TZOFFSETTO:+0100
DTSTART:19701025T030000
RRULE:FREQ=YEARLY;BYMONTH=10;BYDAY=-1SU
END:STANDARD
END:VTIMEZONE
BEGIN:VEVENT
DTSTART;TZID=Europe/Berlin:20250730T100000
DTEND;TZID=Europe/Berlin:20250730T111500
DTSTAMP:20260423T201334Z
UID:{23FF35F7-B318-4D10-B6F6CDF8179D22FA}
LOCATION:Virtual
SUMMARY:Reminder: SIG Meeting Starting in 7 minutes!
DESCRIPTION:Dear all,\n
 \n
 This is a kind reminder that our July SIG Meeting starts in 7 minutes at 10:00 AM CAT/CEST.\n
 It is paramount that we all attend, as your participation is vital to the success of our work together.\n
 \n
 🔗 Join Zoom Meeting:\n
 https://us06web.zoom.us/j/86854916788?pwd=CqpNaRlGAIALtgbUb8fvYvCwmQIWPH.1\n
 \n
 Meeting ID: 868 5491 6788\n
 Passcode: 716719\n
 \n
 Looking forward to seeing you all there!\n
 \n
 Warm regards,\n
 SIG Team
PRIORITY:1
END:VEVENT
END:VCALENDAR