BEGIN:VCALENDAR
PRODID:-//Microsoft Corporation//OutlookMIMEDIR//EN
VERSION:2.0
X-WR-TIMEZONE:Europe/Berlin
CALSCALE:GREGORIAN
METHOD:PUBLISH
CLASS:PUBLIC
BEGIN:VTIMEZONE
TZID:Europe/Berlin
LAST-MODIFIED:20260306T231828Z
TZURL:https://www.tzurl.org/zoneinfo-outlook/Europe/Berlin
X-LIC-LOCATION:Europe/Berlin
BEGIN:DAYLIGHT
TZNAME:CEST
TZOFFSETFROM:+0100
TZOFFSETTO:+0200
DTSTART:19700329T020000
RRULE:FREQ=YEARLY;BYMONTH=3;BYDAY=-1SU
END:DAYLIGHT
BEGIN:STANDARD
TZNAME:CET
TZOFFSETFROM:+0200
TZOFFSETTO:+0100
DTSTART:19701025T030000
RRULE:FREQ=YEARLY;BYMONTH=10;BYDAY=-1SU
END:STANDARD
END:VTIMEZONE
BEGIN:VEVENT
DTSTART;TZID=Europe/Berlin:20250924T100000
DTEND;TZID=Europe/Berlin:20250924T111500
DTSTAMP:20260423T201155Z
UID:{29B8593D-59EB-4CF7-945BA2F3F8E7F976}
LOCATION:Virtual
SUMMARY:📢 Reminder: ISPAD LRS-SIG Meeting – Today at 10:00 AM CEST
DESCRIPTION:Dear colleagues,\n
 \n
 This is a kind reminder that our Diabetes in Limited Resource Settings SIG meeting will take place today at 10:00 AM CEST.\n
 \n
 🔗 Join Zoom Meeting\n
 https://us02web.zoom.us/j/83818634922?pwd=UD3CT3w3aUM7RfTOS0VK6AZlXj7jwR.1\n
 Meeting ID: 838 1863 4922\n
 Passcode: 410438\n
 \n
 This session is an important space for us to:\n
 \n
 Follow up on recent activities (including our first-ever Abstract Mentoring Meeting on 17 September).\n
 \n
 Discuss free registrations for ISPAD 2025, school awareness materials, and advocacy efforts.\n
 \n
 Reflect on how the SIG can best support your work in your local contexts through education, mentorship, research, translation of materials, or advocacy.\n
 \n
 Your voice is vital in shaping the direction of our work, and we look forward to your contributions.\n
 \n
 Warm regards,\n
 ISPAD LRS-SIG Team
PRIORITY:1
END:VEVENT
END:VCALENDAR