BEGIN:VCALENDAR
PRODID:-//Microsoft Corporation//OutlookMIMEDIR//EN
VERSION:2.0
X-WR-TIMEZONE:Europe/Berlin
CALSCALE:GREGORIAN
METHOD:PUBLISH
CLASS:PUBLIC
BEGIN:VTIMEZONE
TZID:Europe/Berlin
LAST-MODIFIED:20260306T231828Z
TZURL:https://www.tzurl.org/zoneinfo-outlook/Europe/Berlin
X-LIC-LOCATION:Europe/Berlin
BEGIN:DAYLIGHT
TZNAME:CEST
TZOFFSETFROM:+0100
TZOFFSETTO:+0200
DTSTART:19700329T020000
RRULE:FREQ=YEARLY;BYMONTH=3;BYDAY=-1SU
END:DAYLIGHT
BEGIN:STANDARD
TZNAME:CET
TZOFFSETFROM:+0200
TZOFFSETTO:+0100
DTSTART:19701025T030000
RRULE:FREQ=YEARLY;BYMONTH=10;BYDAY=-1SU
END:STANDARD
END:VTIMEZONE
BEGIN:VEVENT
DTSTART;TZID=Europe/Berlin:20250917T100000
DTEND;TZID=Europe/Berlin:20250917T111500
DTSTAMP:20260423T201328Z
UID:{4D7D2C38-1A83-46E5-9C8BEBE7FBE10CC9}
LOCATION:Virtual
SUMMARY:Reminder: SIG Meeting Starting in 15minutes!
DESCRIPTION:Dear LRS-SIG members,\n
 \n
 This is a reminder that our Abstract Mentoring Program discussion will take place on Wednesday, 17 September 2025 at 10:00 am CEST via Zoom, which is about 20mins from now!\n
 \n
 Purpose:\n
 This session is a collaborative, informal forum to review draft abstracts for ISPAD (2026 onwards). Our aim is to strengthen ideas, improve data presentation, clarify language, and provide mentorship so valuable work from less-resourced settings is more likely to be seen and heard on international platforms.\n
 \n
 • This is not a formal presentation — we’ll discuss drafts in a constructive roundtable (60–75 minutes). Expect peer feedback, concrete suggestions, and an offer of ongoing mentorship.\n
 \n
 Zoom details:\n
 🔗 Join Zoom Meeting: https://us02web.zoom.us/j/82162664474?pwd=MFnq8mMb511AKSol8S6GaXBmWbLMv2.1\n
 Meeting ID: 821 6266 4474 | Passcode: 806522\n
 \n
 Mentors confirmed so far:\n
 Bhanu K Bhakhri, Yasmine Elhenawy, Tiago Jeronimo, Anju Virmani, Cecile Eigenmann.\n
 \n
 We look forward to vibrant, practical brainstorming that will help convert local data into clear, publishable abstracts. If you cannot attend but would like feedback, please still submit your draft so it can be reviewed.\n
 \n
 👉 Please note: our usual SIG meeting will follow the next week on 24 September 2025 where we’ll review outcomes and next steps.\n
 \n
 Warm regards,\n
 ISPAD SIG LRS
PRIORITY:1
END:VEVENT
END:VCALENDAR