BEGIN:VCALENDAR
PRODID:-//Microsoft Corporation//OutlookMIMEDIR//EN
VERSION:2.0
X-WR-TIMEZONE:Europe/Berlin
CALSCALE:GREGORIAN
METHOD:PUBLISH
CLASS:PUBLIC
BEGIN:VTIMEZONE
TZID:Europe/Berlin
LAST-MODIFIED:20260306T231828Z
TZURL:https://www.tzurl.org/zoneinfo-outlook/Europe/Berlin
X-LIC-LOCATION:Europe/Berlin
BEGIN:DAYLIGHT
TZNAME:CEST
TZOFFSETFROM:+0100
TZOFFSETTO:+0200
DTSTART:19700329T020000
RRULE:FREQ=YEARLY;BYMONTH=3;BYDAY=-1SU
END:DAYLIGHT
BEGIN:STANDARD
TZNAME:CET
TZOFFSETFROM:+0200
TZOFFSETTO:+0100
DTSTART:19701025T030000
RRULE:FREQ=YEARLY;BYMONTH=10;BYDAY=-1SU
END:STANDARD
END:VTIMEZONE
BEGIN:VEVENT
DTSTART;TZID=Europe/Berlin:20251107T191000
DTEND;TZID=Europe/Berlin:20251107T201500
DTSTAMP:20260423T201317Z
UID:{889B5D11-D741-42BC-B7F30588F3E5BA4E}
LOCATION:Hybrid
SUMMARY:📢 ISPAD SIG: Diabetes in Limited Resource Settings — Montreal Meeting
DESCRIPTION:Dear Colleagues,\n
 \n
 We are excited to invite you to join our ISPAD Special Interest Group (SIG): Diabetes in Limited Resource Settings meeting taking place in Montreal on November 7, 2025, from 1:15 PM to 2:15 PM (Montreal local time) / 7:15 PM to 8:15 PM (CEST).\n
 📍 Location: Session Hall 3\n
 \n
 This session will feature insightful updates and short presentations (7–10 minutes each) from our valued partners, including:\n
 \n
 Action4Diabetes (A4D)\n
 \n
 PEDAF\n
 \n
 PETCA\n
 \n
 Life for a Child (LFAC)\n
 \n
 Each will share key highlights of their initiatives supporting diabetes care in less-resourced settings, followed by an open discussion on collaboration and shared goals.\n
 \n
 We encourage all members — and anyone passionate about improving diabetes care in low- and middle-income countries — to attend and invite a colleague or friend to join this important conversation.\n
 \n
 Let’s continue strengthening our global network and amplifying the voices from limited resource settings!\n
 \n
 Warm regards,\n
 ISPAD LRS-SIG Team
PRIORITY:1
END:VEVENT
END:VCALENDAR