BEGIN:VCALENDAR
PRODID:-//Microsoft Corporation//OutlookMIMEDIR//EN
VERSION:2.0
X-WR-TIMEZONE:Europe/Berlin
CALSCALE:GREGORIAN
METHOD:PUBLISH
CLASS:PUBLIC
BEGIN:VTIMEZONE
TZID:Europe/Berlin
LAST-MODIFIED:20260306T231828Z
TZURL:https://www.tzurl.org/zoneinfo-outlook/Europe/Berlin
X-LIC-LOCATION:Europe/Berlin
BEGIN:DAYLIGHT
TZNAME:CEST
TZOFFSETFROM:+0100
TZOFFSETTO:+0200
DTSTART:19700329T020000
RRULE:FREQ=YEARLY;BYMONTH=3;BYDAY=-1SU
END:DAYLIGHT
BEGIN:STANDARD
TZNAME:CET
TZOFFSETFROM:+0200
TZOFFSETTO:+0100
DTSTART:19701025T030000
RRULE:FREQ=YEARLY;BYMONTH=10;BYDAY=-1SU
END:STANDARD
END:VTIMEZONE
BEGIN:VEVENT
DTSTART;TZID=Europe/Berlin:20250917T100000
DTEND;TZID=Europe/Berlin:20250917T113000
DTSTAMP:20260423T201334Z
UID:{A82876B4-F9F9-49B3-A1D7009F0D461945}
LOCATION:Virtual
SUMMARY:ISPAD LRS-SIG – Abstract Mentoring Program
DESCRIPTION:Dear Members of ISPAD LRS-SIG,\n
 \n
 We are initiating an experiment we are excited by and hope to excite you with! An Abstract Mentoring Program for members of this SIG, to see if we can improve the quantity and quality of the data from our regions.\n
 \n
 Background:\n
 Many of us working in LRS are working independently in stand-alone clinics or small hospitals, with little or no academic collaboration. We would like to share something but are uncertain of the quality of the content or writing. We lack financial or logistic support and have no mentors to guide us if we try to collate, analyze, and write up our data/experience, so we end up not trying and valuable material may never see the light of day.\n
 \n
 If we were to start putting things together, and share it with mentor volunteers and amongst ourselves to help us with "an outside look," we could improve many aspects – some easily, some with more effort. Sometimes it may be vague reporting of data, which could be framed more precisely; sometimes it may just be inadequate English becoming a barrier in conveying what we want to say.\n
 \n
 Proposal:\n
 We invite you – members of LRS-SIG – to write up potential abstracts for ISPAD meetings 2026 onwards and share the drafts for brainstorming and suggestions about how to improve them:\n
 \n
 Can more details be added?\n
 \n
 Can more data be collected to make it stronger?\n
 \n
 Could the language be tweaked a little to make it clearer?\n
 \n
 These drafts will be discussed in 60–75 min meetings, every 3 months initially. The authors then work further on them and may choose to come back to the group with improved versions. At whichever stage the authors are happy with what they have, they can submit formally to the annual ISPAD meeting.\n
 \n
 We also invite members of the LRS-SIG willing to be mentors, to volunteer as mentors.\n
 \n
 First Meeting:\n
 \n
 Drafts due: 7 September 2025\n
 \n
 Zoom discussion: 17 September 2025, 10 am CEST\n
 (This will be an informal discussion, not a webinar with formal presentations.)\n
 \n
 Join Zoom Meeting\n
 \n
 [https://us02web.zoom.us/j/82162664474?pwd=MFnq8mMb511AKSol8S6GaXBmWbLMv2.1]\n
 \n
 Meeting ID: 821 6266 4474\n
 Passcode: 806522\n
 \n
 Mentors who have volunteered so far:\n
 \n
 Bhanu K Bhakhri\n
 \n
 Yasmine Elhenawy\n
 \n
 Tiago Jeronimo\n
 \n
 Anju Virmani (Pediatric Endocrinologists)\n
 \n
 Cecile Eigenmann (Education Manager at LFAC)\n
 \n
 \n
 We will discuss how things went and how to take them forward in the next SIG meeting on 24th September 2025.\n
 \n
 Please reply to:\n
 \n
 virmani.anju@gmail.com\n
 \n
 tinodzikiti@gmail.com\n
 \n
 dr_yasmi@yahoo.com\n
 \n
 \n
 Best,\n
 ISPAD SIG LRS
PRIORITY:1
END:VEVENT
END:VCALENDAR