BEGIN:VCALENDAR
PRODID:-//Microsoft Corporation//OutlookMIMEDIR//EN
VERSION:2.0
X-WR-TIMEZONE:Europe/Berlin
CALSCALE:GREGORIAN
METHOD:PUBLISH
CLASS:PUBLIC
BEGIN:VTIMEZONE
TZID:Europe/Berlin
LAST-MODIFIED:20260306T231828Z
TZURL:https://www.tzurl.org/zoneinfo-outlook/Europe/Berlin
X-LIC-LOCATION:Europe/Berlin
BEGIN:DAYLIGHT
TZNAME:CEST
TZOFFSETFROM:+0100
TZOFFSETTO:+0200
DTSTART:19700329T020000
RRULE:FREQ=YEARLY;BYMONTH=3;BYDAY=-1SU
END:DAYLIGHT
BEGIN:STANDARD
TZNAME:CET
TZOFFSETFROM:+0200
TZOFFSETTO:+0100
DTSTART:19701025T030000
RRULE:FREQ=YEARLY;BYMONTH=10;BYDAY=-1SU
END:STANDARD
END:VTIMEZONE
BEGIN:VEVENT
DTSTART;TZID=Europe/Berlin:20250924T100000
DTEND;TZID=Europe/Berlin:20250924T111500
DTSTAMP:20260423T214635Z
UID:{EBB67117-4E4E-43C1-A8CB0D4D5D8A32F6}
LOCATION:Virtual
SUMMARY:📢 Attention: ISPAD LRS-SIG Bi-Monthly Meeting – 24 September 2025, 10:00 AM CEST
DESCRIPTION:Dear Members of the ISPAD LRS-SIG,\n
 \n
 We are delighted to invite you to our regular bi-monthly call of the Diabetes in Less Resourced Settings SIG on Tuesday, 24 September 2025 at 10:00 AM (Paris/CEST).\n
 \n
 This session is an important space for us to connect, share updates, and build momentum on the crucial work we are doing together. From following up on recent activities—including our first-ever Abstract Mentoring Meeting on 17 September—to discussing free registrations for ISPAD 2025, school awareness materials, and advocacy efforts, this call promises to be both informative and interactive.\n
 \n
 We will also be reflecting on how the SIG can best support your work in your local contexts, whether through education, mentorship, research, translation of materials, or advocacy. Your voice is vital in shaping how this group evolves.\n
 \n
 🔗 Join Zoom Meeting\n
 https://us02web.zoom.us/j/83818634922?pwd=UD3CT3w3aUM7RfTOS0VK6AZlXj7jwR.1\n
 \n
 Meeting ID: 838 1863 4922\n
 Passcode: 410438\n
 \n
 Let’s continue building bridges across our regions, strengthening collaboration, and amplifying the voices of less-resourced settings in the global diabetes community. We look forward to seeing you there.\n
 \n
 Warm regards,\n
 ISPAD LRS-SIG Team
PRIORITY:1
END:VEVENT
END:VCALENDAR