BEGIN:VCALENDAR
PRODID:-//Microsoft Corporation//OutlookMIMEDIR//EN
VERSION:2.0
X-WR-TIMEZONE:Europe/Berlin
CALSCALE:GREGORIAN
METHOD:PUBLISH
CLASS:PUBLIC
BEGIN:VTIMEZONE
TZID:Europe/Berlin
LAST-MODIFIED:20260306T231828Z
TZURL:https://www.tzurl.org/zoneinfo-outlook/Europe/Berlin
X-LIC-LOCATION:Europe/Berlin
BEGIN:DAYLIGHT
TZNAME:CEST
TZOFFSETFROM:+0100
TZOFFSETTO:+0200
DTSTART:19700329T020000
RRULE:FREQ=YEARLY;BYMONTH=3;BYDAY=-1SU
END:DAYLIGHT
BEGIN:STANDARD
TZNAME:CET
TZOFFSETFROM:+0200
TZOFFSETTO:+0100
DTSTART:19701025T030000
RRULE:FREQ=YEARLY;BYMONTH=10;BYDAY=-1SU
END:STANDARD
END:VTIMEZONE
BEGIN:VEVENT
DTSTART;TZID=Europe/Berlin:20250730T100000
DTEND;TZID=Europe/Berlin:20250730T111500
DTSTAMP:20260423T201231Z
UID:{F4B6A02D-28DE-4E19-B84DDDAE0A80AF42}
LOCATION:Virtual
SUMMARY:Reminder: SIG Meeting – Wednesday, 30 July 2025 at 10:00 AM CAT/CEST
DESCRIPTION:Dear All,\n
 \n
 This is a kind reminder of our upcoming SIG: Diabetes in Limited Resource Settings meeting scheduled for Wednesday, 30 July 2025, at 10:00 AM CAT/CEST.\n
 \n
 It would be wonderful to have all members present as we continue to build on our discussions. Dr. Anju and Dr. Yasmine will be co-chairing this meeting.\n
 \n
 Zoom Meeting Details:\n
 Topic: SIG: Diabetes in Limited Resource Settings – July 2025\n
 Time: Jul 30, 2025, 10:00 AM Harare, Pretoria\n
 \n
 Join Zoom Meeting:\n
 https://us06web.zoom.us/j/86854916788?pwd=CqpNaRlGAIALtgbUb8fvYvCwmQIWPH.1\n
 \n
 Meeting ID: 868 5491 6788\n
 Passcode: 716719\n
 \n
 Looking forward to seeing you all there! Kindly check out the agenda shared on the documents thumbnail. \n
 \n
 Best regards,\n
 SIG Team
PRIORITY:1
END:VEVENT
END:VCALENDAR