BEGIN:VCALENDAR
PRODID:-//Microsoft Corporation//OutlookMIMEDIR//EN
VERSION:2.0
X-WR-TIMEZONE:Europe/Berlin
CALSCALE:GREGORIAN
METHOD:PUBLISH
CLASS:PUBLIC
BEGIN:VTIMEZONE
TZID:Europe/Berlin
LAST-MODIFIED:20260306T231828Z
TZURL:https://www.tzurl.org/zoneinfo-outlook/Europe/Berlin
X-LIC-LOCATION:Europe/Berlin
BEGIN:DAYLIGHT
TZNAME:CEST
TZOFFSETFROM:+0100
TZOFFSETTO:+0200
DTSTART:19700329T020000
RRULE:FREQ=YEARLY;BYMONTH=3;BYDAY=-1SU
END:DAYLIGHT
BEGIN:STANDARD
TZNAME:CET
TZOFFSETFROM:+0200
TZOFFSETTO:+0100
DTSTART:19701025T030000
RRULE:FREQ=YEARLY;BYMONTH=10;BYDAY=-1SU
END:STANDARD
END:VTIMEZONE
BEGIN:VEVENT
DTSTART;TZID=Europe/Berlin:20250917T100000
DTEND;TZID=Europe/Berlin:20250917T111500
DTSTAMP:20260423T201026Z
UID:{FA7CE779-915E-492F-999F53A50374C999}
LOCATION:Virtual
SUMMARY:Reminder – Abstract Mentoring Program Call on 17 September 2025
DESCRIPTION:Dear Members of the ISPAD LRS-SIG,\n
 \n
 This is a kind reminder that our first Abstract Mentoring Program discussion will take place on Wednesday, 17 September 2025 at 10:00 am CEST via Zoom.\n
 \n
 We warmly encourage all members who have prepared draft abstracts to share them with the group for constructive feedback and collaborative brainstorming. This initiative is not only about improving individual abstracts but about building a culture of mentorship, collaboration, and shared learning within our community. By pooling our strengths, we can transform initial ideas into stronger, clearer, and more impactful submissions. Whether it is refining data, clarifying language, or strengthening the research narrative, the aim is to ensure that valuable work from less-resourced settings does not remain unseen, but instead contributes meaningfully to the global diabetes community. This program is designed to give members the confidence, skills, and support network needed to elevate their research and make their voices heard on international platforms such as ISPAD.\n
 \n
 Meeting details:\n
 🔗 Zoom link: Join Zoom Meeting\n
 Meeting ID: 821 6266 4474\n
 Passcode: 806522\n
 \n
 We look forward to an open, informal, and constructive discussion that will help us shape abstracts for future ISPAD meetings.\n
 \n
 👉 Please also note that our regular SIG meeting will be held the following week (date to be announced soon), where we will reflect on all these initiatives and many others and discuss next steps.\n
 \n
 With best regards,\n
 ISPAD SIG LRS
PRIORITY:1
END:VEVENT
END:VCALENDAR