BEGIN:VCALENDAR
PRODID:-//Microsoft Corporation//OutlookMIMEDIR//EN
VERSION:2.0
X-WR-TIMEZONE:America/Toronto
CALSCALE:GREGORIAN
METHOD:PUBLISH
CLASS:PUBLIC
BEGIN:VTIMEZONE
TZID:America/Toronto
LAST-MODIFIED:20260306T231828Z
TZURL:https://www.tzurl.org/zoneinfo-outlook/America/Toronto
X-LIC-LOCATION:America/Toronto
BEGIN:DAYLIGHT
TZNAME:EDT
TZOFFSETFROM:-0500
TZOFFSETTO:-0400
DTSTART:19700308T020000
RRULE:FREQ=YEARLY;BYMONTH=3;BYDAY=2SU
END:DAYLIGHT
BEGIN:STANDARD
TZNAME:EST
TZOFFSETFROM:-0400
TZOFFSETTO:-0500
DTSTART:19701101T020000
RRULE:FREQ=YEARLY;BYMONTH=11;BYDAY=1SU
END:STANDARD
END:VTIMEZONE
BEGIN:VEVENT
DTSTART;TZID=America/Toronto:20251107T131500
DTEND;TZID=America/Toronto:20251107T141500
DTSTAMP:20260423T201544Z
UID:{FB4A7EAD-125A-47CD-939D03D346F014F4}
LOCATION:Session Hall 3
SUMMARY:Reminder: ISPAD SIG – Diabetes in Limited Resourced Settings Meeting (Nov 7, 2025)
DESCRIPTION:Dear Colleagues,\n
 \n
 This is a friendly reminder about our upcoming ISPAD Special Interest Group (SIG): Diabetes in Limited Resourced Settings meeting taking place this Friday, November 7, 2025.\n
 \n
 🕐 Time:\n
 \n
 1:15 PM – 2:15 PM (Montreal local time) – for those attending in person, we’ll meet in Session Hall 3\n
 \n
 7:15 PM – 8:15 PM (CEST) – for those joining virtually\n
 \n
 💻 Join Zoom Meeting:\n
 https://us02web.zoom.us/j/82195893858?pwd=UVrcR3haUPqE5C8u6CzopWqoLShEmu.1\n
 Meeting ID: 821 9589 3858\n
 Passcode: 261656\n
 \n
 Our session will spotlight inspiring initiatives from Action4Diabetes (A4D), PEDAF, PETCA, and Life for a Child (LFAC)—each demonstrating innovative approaches to improving diabetes care in limited-resource settings.\n
 \n
 We encourage everyone to join, share, and engage as we explore practical ways to strengthen collaboration and equity in diabetes care across regions.\n
 \n
 Looking forward to seeing you all—whether in Montreal or online!\n
 \n
 Warm regards,\n
 Tinotenda Dzikiti & Anju Virmani\n
 ISPAD SIG Co-Leads – Diabetes in Limited Resourced Settings
PRIORITY:1
END:VEVENT
END:VCALENDAR